BEGIN:VCALENDAR
VERSION:2.0
PRODID:-//グレステン - ECPv6.15.20//NONSGML v1.0//EN
CALSCALE:GREGORIAN
METHOD:PUBLISH
X-WR-CALNAME:グレステン
X-ORIGINAL-URL:https://glestain.jp
X-WR-CALDESC:グレステン のイベント
REFRESH-INTERVAL;VALUE=DURATION:PT1H
X-Robots-Tag:noindex
X-PUBLISHED-TTL:PT1H
BEGIN:VTIMEZONE
TZID:Asia/Tokyo
BEGIN:STANDARD
TZOFFSETFROM:+0900
TZOFFSETTO:+0900
TZNAME:JST
DTSTART:20250101T000000
END:STANDARD
END:VTIMEZONE
BEGIN:VEVENT
DTSTART;TZID=Asia/Tokyo:20260722T000000
DTEND;TZID=Asia/Tokyo:20260727T235959
DTSTAMP:20260421T233218
CREATED:20260401T234651Z
LAST-MODIFIED:20260401T234651Z
UID:6652-1784678400-1785196799@glestain.jp
SUMMARY:倉敷天満屋｜4階　台所用品
DESCRIPTION:4階　台所用品
URL:https://glestain.jp/popup/%e5%80%89%e6%95%b7%e5%a4%a9%e6%ba%80%e5%b1%8b%ef%bd%9c4%e9%9a%8e%e3%80%80%e5%8f%b0%e6%89%80%e7%94%a8%e5%93%81/
CATEGORIES:販売会
END:VEVENT
BEGIN:VEVENT
DTSTART;TZID=Asia/Tokyo:20260722T000000
DTEND;TZID=Asia/Tokyo:20260804T235959
DTSTAMP:20260421T233218
CREATED:20260401T234651Z
LAST-MODIFIED:20260401T234651Z
UID:6651-1784678400-1785887999@glestain.jp
SUMMARY:日本橋三越｜本館5階　キッチン生活雑貨
DESCRIPTION:本館5階　キッチン生活雑貨
URL:https://glestain.jp/popup/%e6%97%a5%e6%9c%ac%e6%a9%8b%e4%b8%89%e8%b6%8a%ef%bd%9c%e6%9c%ac%e9%a4%a85%e9%9a%8e%e3%80%80%e3%82%ad%e3%83%83%e3%83%81%e3%83%b3%e7%94%9f%e6%b4%bb%e9%9b%91%e8%b2%a8/
CATEGORIES:販売会
END:VEVENT
END:VCALENDAR