BEGIN:VCALENDAR
VERSION:2.0
PRODID:-//グレステン - ECPv6.15.20//NONSGML v1.0//EN
CALSCALE:GREGORIAN
METHOD:PUBLISH
X-ORIGINAL-URL:https://glestain.jp
X-WR-CALDESC:グレステン のイベント
REFRESH-INTERVAL;VALUE=DURATION:PT1H
X-Robots-Tag:noindex
X-PUBLISHED-TTL:PT1H
BEGIN:VTIMEZONE
TZID:Asia/Tokyo
BEGIN:STANDARD
TZOFFSETFROM:+0900
TZOFFSETTO:+0900
TZNAME:JST
DTSTART:20250101T000000
END:STANDARD
END:VTIMEZONE
BEGIN:VEVENT
DTSTART;TZID=Asia/Tokyo:20260603T000000
DTEND;TZID=Asia/Tokyo:20260608T235959
DTSTAMP:20260421T202801
CREATED:20260401T234606Z
LAST-MODIFIED:20260401T234606Z
UID:6638-1780444800-1780963199@glestain.jp
SUMMARY:上本町近鉄｜8階　上りエスカレータ横
DESCRIPTION:8階　上りエスカレータ横
URL:https://glestain.jp/popup/%e4%b8%8a%e6%9c%ac%e7%94%ba%e8%bf%91%e9%89%84%ef%bd%9c8%e9%9a%8e%e3%80%80%e4%b8%8a%e3%82%8a%e3%82%a8%e3%82%b9%e3%82%ab%e3%83%ac%e3%83%bc%e3%82%bf%e6%a8%aa-2/
CATEGORIES:販売会
END:VEVENT
BEGIN:VEVENT
DTSTART;TZID=Asia/Tokyo:20260603T000000
DTEND;TZID=Asia/Tokyo:20260608T235959
DTSTAMP:20260421T202801
CREATED:20260401T234606Z
LAST-MODIFIED:20260401T234606Z
UID:6636-1780444800-1780963199@glestain.jp
SUMMARY:川越まるひろ｜5階　催事場
DESCRIPTION:5階　催事場
URL:https://glestain.jp/popup/%e5%b7%9d%e8%b6%8a%e3%81%be%e3%82%8b%e3%81%b2%e3%82%8d%ef%bd%9c5%e9%9a%8e%e3%80%80%e5%82%ac%e4%ba%8b%e5%a0%b4-2/
CATEGORIES:販売会
END:VEVENT
BEGIN:VEVENT
DTSTART;TZID=Asia/Tokyo:20260603T000000
DTEND;TZID=Asia/Tokyo:20260608T235959
DTSTAMP:20260421T202801
CREATED:20260401T234606Z
LAST-MODIFIED:20260401T234606Z
UID:6637-1780444800-1780963199@glestain.jp
SUMMARY:コリドーフジ｜2階　ライフスタイル雑貨ステージ
DESCRIPTION:2階　ライフスタイル雑貨ステージ
URL:https://glestain.jp/popup/%e3%82%b3%e3%83%aa%e3%83%89%e3%83%bc%e3%83%95%e3%82%b8%ef%bd%9c2%e9%9a%8e%e3%80%80%e3%83%a9%e3%82%a4%e3%83%95%e3%82%b9%e3%82%bf%e3%82%a4%e3%83%ab%e9%9b%91%e8%b2%a8%e3%82%b9%e3%83%86%e3%83%bc-2/
CATEGORIES:販売会
END:VEVENT
END:VCALENDAR